BEGIN:VCALENDAR
VERSION:2.0
PRODID:-//jEvents 2.0 for Joomla//EN
CALSCALE:GREGORIAN
METHOD:PUBLISH
BEGIN:VTIMEZONE
TZID:Europe/Stockholm
BEGIN:STANDARD
DTSTART:20250221T000000
RDATE:20250330T030000
TZOFFSETFROM:+0200
TZOFFSETTO:+0100
TZNAME:Europe/Stockholm CET
END:STANDARD
BEGIN:STANDARD
DTSTART:20251026T020000
RDATE:20260329T030000
TZOFFSETFROM:+0200
TZOFFSETTO:+0100
TZNAME:Europe/Stockholm CET
END:STANDARD
BEGIN:STANDARD
DTSTART:20261025T020000
RDATE:20270328T030000
TZOFFSETFROM:+0200
TZOFFSETTO:+0100
TZNAME:Europe/Stockholm CET
END:STANDARD
BEGIN:STANDARD
DTSTART:20271031T020000
RDATE:20280326T030000
TZOFFSETFROM:+0200
TZOFFSETTO:+0100
TZNAME:Europe/Stockholm CET
END:STANDARD
BEGIN:DAYLIGHT
DTSTART:20250330T030000
RDATE:20251026T020000
TZOFFSETFROM:+0100
TZOFFSETTO:+0200
TZNAME:Europe/Stockholm CEST
END:DAYLIGHT
BEGIN:DAYLIGHT
DTSTART:20260329T030000
RDATE:20261025T020000
TZOFFSETFROM:+0100
TZOFFSETTO:+0200
TZNAME:Europe/Stockholm CEST
END:DAYLIGHT
BEGIN:DAYLIGHT
DTSTART:20270328T030000
RDATE:20271031T020000
TZOFFSETFROM:+0100
TZOFFSETTO:+0200
TZNAME:Europe/Stockholm CEST
END:DAYLIGHT
END:VTIMEZONE
BEGIN:VEVENT
UID:2b653f3b6dc3b12f4d6052efe9230c53
CATEGORIES:Malmökretsen
CREATED:19700101T010000
SUMMARY:KF3/F3 Vinslöv - INSTÄLLD!!!
DESCRIPTION;ENCODING=QUOTED-PRINTABLE:Vinterns grepp över det Skånska landskapet och våra klubbars skjutvallar be
 står. När tävlingsprogrammen lades fast för 2026 var det nog ingen som tänk
 te sig att vinterns återuppstod och skulle lägga ett fast grepp med lång ti
 d av minusgrader. Nu måste vi också meddela att även för tävling F3 i Vinsl
 öv har tävlingsledningen meddelat att denna tävling är inställd
DTSTAMP:20260425T190502Z
DTSTART;TZID=Europe/Stockholm;VALUE=DATE:20260222
DTEND;TZID=Europe/Stockholm;VALUE=DATE:20260223
SEQUENCE:0
TRANSP:OPAQUE
END:VEVENT
END:VCALENDAR