BEGIN:VCALENDAR
VERSION:2.0
PRODID:-//jEvents 2.0 for Joomla//EN
CALSCALE:GREGORIAN
METHOD:PUBLISH
BEGIN:VTIMEZONE
TZID:Europe/Stockholm
BEGIN:STANDARD
DTSTART:20251026T020000
RDATE:20260329T030000
TZOFFSETFROM:+0200
TZOFFSETTO:+0100
TZNAME:Europe/Stockholm CET
END:STANDARD
BEGIN:STANDARD
DTSTART:20261025T020000
RDATE:20270328T030000
TZOFFSETFROM:+0200
TZOFFSETTO:+0100
TZNAME:Europe/Stockholm CET
END:STANDARD
BEGIN:STANDARD
DTSTART:20271031T020000
RDATE:20280326T030000
TZOFFSETFROM:+0200
TZOFFSETTO:+0100
TZNAME:Europe/Stockholm CET
END:STANDARD
BEGIN:DAYLIGHT
DTSTART:20250411T000000
RDATE:20251026T020000
TZOFFSETFROM:+0100
TZOFFSETTO:+0200
TZNAME:Europe/Stockholm CEST
END:DAYLIGHT
BEGIN:DAYLIGHT
DTSTART:20260329T030000
RDATE:20261025T020000
TZOFFSETFROM:+0100
TZOFFSETTO:+0200
TZNAME:Europe/Stockholm CEST
END:DAYLIGHT
BEGIN:DAYLIGHT
DTSTART:20270328T030000
RDATE:20271031T020000
TZOFFSETFROM:+0100
TZOFFSETTO:+0200
TZNAME:Europe/Stockholm CEST
END:DAYLIGHT
END:VTIMEZONE
BEGIN:VEVENT
UID:406cc47b78280f39c568854232c1e82f
CATEGORIES:Skåne
CREATED:19700101T010000
SUMMARY:VÅR-jakten
LOCATION:Örkelljunga
DESCRIPTION;ENCODING=QUOTED-PRINTABLE:\n\nTill nationell fältskjutning VÅR-jakten\n\n\nPlats: i Örkelljunga Sönda
 gen den 12 april 2026.\n\n\n&nbsp;\n\n\nSamlingsplats:&nbsp;&nbsp;&nbsp;&nb
 sp;&nbsp;&nbsp;&nbsp;&nbsp;&nbsp;&nbsp;&nbsp;&nbsp;&nbsp;&nbsp;&nbsp;&nbsp;
 &nbsp;&nbsp; Skyttecentrum i Örkelljunga\n\n\nVägvisning: &nbsp;&nbsp; Från
  RV 24 norra utfarten från Örkelljunga, riktning Laholm, skylt Skyttecentru
 m följ därefter vägvisning till skyttecentrum Svinstorp.\n\n\nOmfattning: 8
  stationer om 6 skott per station.\n\n\nPga markförhållanden så kommer fler
 talet av stationerna att ligga på skjutvallarna och det innebär en relativt
  kort och, med vissa undantag, lättgången patrullstig. Stövlar kan dock var
 a ett lämpligt komplement.\n\n\nVapen: Av SPSF godkända vapen. Vapenkontrol
 l sker genom stickprovskontroll Ej magnumladdad ammunition.\n\n\nVapengrupp
 er o klasser: Vapengrupp C: klass 1,2,3, Dam: 1,2,3, Jun, Vet Y, Vet Ä, Vap
 engrupp A, B o R: klass 1,2,3.\n\n\nAnmälan:&nbsp; Föranmälan senast den 31
 mars, via Webshooter.se\n\n\nEfteranmälan i mån av plats, via Webshooter.se
  och efter bekräftelse frän tävlingsledningen.\n\n\nTävlingsbestämmelser: E
 nligt Svenska Pistolskytteförbundets skjuthandbok,\n\n\nStartavgift:\n\n\n1
 60:-&nbsp; per start.\n\n\nEfteranmälan tillkommer 20:- per start.\n\n\nSta
 rtavgiften inbetalas till plusgiro nr 38 61 35-8, eller Swish 123 366 69 30
 \n\n\nStartavgift återbetalas inte vid avbokning efter sista anmälningsdag\
 n\n\n&nbsp;\n\n\nPriser:&nbsp;&nbsp; Hederspriser till bästa 1/4-delen i re
 spektive klass.\n\n\nSammanslagning av klasser med färre än 3 deltagare enl
 igt SHB.\n\n\nEj avhämtade priser tillfaller arrangören.\n\n\nServering:&nb
 sp; Enklare servering finns i klubbstugan.\n\n\n&nbsp;\n\n\nSe Wordfilen fö
 r kontaktinformation.\n\n\n&nbsp;\n\n\nÖrkelljunga pistolklubb hälsar alla 
 välkomna till en trevlig tävling.\n\n\n&nbsp;\n
CONTACT:Sven Olof Sandberg
DTSTAMP:20260425T190238Z
DTSTART;TZID=Europe/Stockholm;VALUE=DATE:20260412
DTEND;TZID=Europe/Stockholm;VALUE=DATE:20260413
SEQUENCE:0
TRANSP:OPAQUE
END:VEVENT
END:VCALENDAR