BEGIN:VCALENDAR
VERSION:2.0
PRODID:-//jEvents 2.0 for Joomla//EN
CALSCALE:GREGORIAN
METHOD:PUBLISH
BEGIN:VTIMEZONE
TZID:Europe/Stockholm
BEGIN:STANDARD
DTSTART:20250325T180000
RDATE:20250330T030000
TZOFFSETFROM:+0200
TZOFFSETTO:+0100
TZNAME:Europe/Stockholm CET
END:STANDARD
BEGIN:STANDARD
DTSTART:20251026T020000
RDATE:20260329T030000
TZOFFSETFROM:+0200
TZOFFSETTO:+0100
TZNAME:Europe/Stockholm CET
END:STANDARD
BEGIN:STANDARD
DTSTART:20261025T020000
RDATE:20270328T030000
TZOFFSETFROM:+0200
TZOFFSETTO:+0100
TZNAME:Europe/Stockholm CET
END:STANDARD
BEGIN:STANDARD
DTSTART:20271031T020000
RDATE:20280326T030000
TZOFFSETFROM:+0200
TZOFFSETTO:+0100
TZNAME:Europe/Stockholm CET
END:STANDARD
BEGIN:DAYLIGHT
DTSTART:20250330T030000
RDATE:20251026T020000
TZOFFSETFROM:+0100
TZOFFSETTO:+0200
TZNAME:Europe/Stockholm CEST
END:DAYLIGHT
BEGIN:DAYLIGHT
DTSTART:20260329T030000
RDATE:20261025T020000
TZOFFSETFROM:+0100
TZOFFSETTO:+0200
TZNAME:Europe/Stockholm CEST
END:DAYLIGHT
BEGIN:DAYLIGHT
DTSTART:20270328T030000
RDATE:20271031T020000
TZOFFSETFROM:+0100
TZOFFSETTO:+0200
TZNAME:Europe/Stockholm CEST
END:DAYLIGHT
END:VTIMEZONE
BEGIN:VEVENT
UID:889c3fd0dbb84625c366ac31a002f65d
CATEGORIES:Malmökretsen
CREATED:19700101T010000
SUMMARY:Malmöhus Pistolskyttekrets Årsmöte
DESCRIPTION;ENCODING=QUOTED-PRINTABLE:\n\nKALLELSE TILL FÖRENINGAR TILLHÖRANDE MALMÖHUS\nPISTOLSKYTTEKRETS\n\n\n\
 nÅrsmöte: Årsmöte med Malmöhus Pistolskyttekrets kommer att äga rum\ntorsda
 gen den 26 mars, 2026 kl. 18.00 på Staffanstorps Gästgivaregård\nStationsvä
 gen 2, Staffanstorp. http://www.staffanstorpsgastis.com/\n\n\nOmbud: Varje 
 förening har en röst samt ytterligare en röst för varje påbörjat 20-tal\nak
 tiva medlemmar i föreningen, enligt den redovisning som lämnats via\negen k
 rets till Svenska Pistolskytteförbundet.\n(En föreningsrepresentant har rös
 trätt för hela sin förening)\nFörening som inte rapporterat verksamhet unde
 r närmast föregående år äger\nnärvaro- och yttranderätt men ej rösträtt.\n\
 n\nKallelse: Kallelse utsändes till varje förening samt publiceras på Krets
 ens hemsida\nhttp://malmokretsen.se/.\n\n\nMotioner: Tre motioner har inläm
 nats till Årsmötet.\n\n\nPropositioner: Inga hänskjutna frågor från styrels
 en.\n\n\nÖvrigt: Förening/klubb som önskar väcka någon fråga, som inte finn
 s upptagen på\ndagordningen, skall för att få frågan behandlad, meddela äre
 ndet till\nkretsstyrelsen senast två veckor före årsmötet.\n\n\nMåltid: Eft
 er årsmötet kommer det att serveras äggkaka med stekt fläsk och rårörda\nli
 ngon - 120 kr/pers. inkl. dryck\nAnmälan till mötet samt till eftersittning
  skall ske på bifogad\nanmälningsblankett (bilaga 10).\nAnmälan måste ske s
 enast lördagen den 21 mars\ntill sekreterare@malmokretsen.se.\n\n\nDagordni
 ng och motioner\n
DTSTAMP:20260425T190248Z
DTSTART;TZID=Europe/Stockholm:20260326T180000
SEQUENCE:0
TRANSP:OPAQUE
END:VEVENT
END:VCALENDAR