BEGIN:VCALENDAR
VERSION:2.0
PRODID:-//jEvents 2.0 for Joomla//EN
CALSCALE:GREGORIAN
METHOD:PUBLISH
BEGIN:VTIMEZONE
TZID:Europe/Stockholm
BEGIN:STANDARD
DTSTART:20251026T020000
RDATE:20260329T030000
TZOFFSETFROM:+0200
TZOFFSETTO:+0100
TZNAME:Europe/Stockholm CET
END:STANDARD
BEGIN:STANDARD
DTSTART:20261025T020000
RDATE:20270328T030000
TZOFFSETFROM:+0200
TZOFFSETTO:+0100
TZNAME:Europe/Stockholm CET
END:STANDARD
BEGIN:STANDARD
DTSTART:20271031T020000
RDATE:20280326T030000
TZOFFSETFROM:+0200
TZOFFSETTO:+0100
TZNAME:Europe/Stockholm CET
END:STANDARD
BEGIN:DAYLIGHT
DTSTART:20250411T000000
RDATE:20251026T020000
TZOFFSETFROM:+0100
TZOFFSETTO:+0200
TZNAME:Europe/Stockholm CEST
END:DAYLIGHT
BEGIN:DAYLIGHT
DTSTART:20260329T030000
RDATE:20261025T020000
TZOFFSETFROM:+0100
TZOFFSETTO:+0200
TZNAME:Europe/Stockholm CEST
END:DAYLIGHT
BEGIN:DAYLIGHT
DTSTART:20270328T030000
RDATE:20271031T020000
TZOFFSETFROM:+0100
TZOFFSETTO:+0200
TZNAME:Europe/Stockholm CEST
END:DAYLIGHT
END:VTIMEZONE
BEGIN:VEVENT
UID:0e33de938b54076a0c4031e20c18eac6
CATEGORIES:Skåne
CREATED:20260318T083149
SUMMARY:Grundutbildning i PPC
DESCRIPTION;ENCODING=QUOTED-PRINTABLE:Grundutbildning i PPC \n\n\n&nbsp;\n\n\nUtbildningen vänder sig till pistol
 skyttar med eget grovkalibrigt vapen som är intresserade av att börja träna
 /tävla i PPC (Precision Pistol Competition) och som är aktiva medlemmar i e
 n förening ansluten till Svenska Pistolskytteförbundet. Utbildningen omfatt
 ar teoretiska och praktiska moment, skriftligt prov samt deltagande i match
  (ej samma dag). \n\n\nFör att du skall kunna gå kursen förutsätts att du i
  förväg har läst Svenska Pistolskytteförbundets Regelbok PPC och i förväg s
 varat på frågor som skickas ut i samband med anmälan samt även att du har g
 rundläggande kännedom om regler i Skjuthandboken. Kontroll av dina förkunsk
 aper kommer att göras innan de praktiska momenten påbörjas. Kursdagen avslu
 tas med skriftligt prov (vid behov muntligt) som tar max ca 20 minuter. \n\
 n\nFör att få gå kursen krävs följande:&nbsp;\n\n - Eget grovkalibrigt vape
 n (pistol eller revolver) och god kännedom om handhavande av detta vapen&nb
 sp;\n - Aktivt medlemskap (i förening ansluten till SPSF) och rapporterad s
 om aktiv till SPSF&nbsp;\n - Innehavare av pistolskyttekortet \n\nObservera
  att du måste ha ett godkänt hölster och skyddsglasögon för att kunna delta
  på kursen. Du behöver minst två magasin eller snabbladdare för att genomfö
 ra de praktiska momenten på kursdagen. \n\n\nHar du frågor om krav på utrus
 tning så skicka dina frågor till Johan Ahlbeck&nbsp;\n&nbsp;Datum:Söndag 20
 26-04-12 eller 2026-04-19&nbsp;Tid:08:00--17:00. Du måste vara med hela dag
 en&nbsp;Plats:Landskrona Pistolklubb. https://goo.gl/maps/kCbdMELuq6G2&nbsp
 ;Avgift:600 kr, inkl. lunch och fika. Avgift betalas enligt separat instruk
 tion efter att din anmälan godkänts. Betald avgift återbetalas endast vid g
 iltigt skäl till att ej deltaga – inte om du uteblir utan att ha anmält det
 . Startavgift för match betalas separat på matchdagen.&nbsp;Anmälan:Senast 
 7/4 till 12/4 dagen och 14/4 till 19/4 dagen. Anmälan görs till till Johan 
 Ahlbeck - Se email i PDF filen.&nbsp;Uppge fullständigt namn och pistolskyt
 tekortnummer vid anmälan. Begränsat antal platser&nbsp;Instruktörer:Johan A
 hlbeck och Krister Hellström.&nbsp;Övrigt:Förbered dig inför kursen genom a
 tt läsa igenom utbildningsmaterial PPC och SPSF’s Regelbok PPC (skickas ut 
 till de som anmäler sig). Utskickade frågor skall besvaras före kursdagen. 
 Minst 400 patroner behöver du ha med dig till utbildningsdagen. Specialkost
  måste anmälas.\n\n&nbsp;\n\n\nObservera även att detta inte är en nybörjar
 kurs i att skjuta med grovkalibrigt vapen. Det är en grundkurs för att lära
  sig skjuta PPC för skyttar som redan är aktiva med någon form av grovkalib
 rigt vapen. Du som inte har ett eget grovkalibrigt vapen ska inte anmäla di
 g till kursen. INGA anmälningar med LÅNEVAPEN!\n
DTSTAMP:20260425T154406Z
DTSTART;TZID=Europe/Stockholm;VALUE=DATE:20260412
DTEND;TZID=Europe/Stockholm;VALUE=DATE:20260413
SEQUENCE:0
TRANSP:OPAQUE
END:VEVENT
END:VCALENDAR